BEGIN:VCALENDAR
VERSION:2.0
PRODID:-//BART MOORE - ECPv5.16.4//NONSGML v1.0//EN
CALSCALE:GREGORIAN
METHOD:PUBLISH
X-WR-CALNAME:BART MOORE
X-ORIGINAL-URL:https://bartmooremusic.com
X-WR-CALDESC:Events for BART MOORE
REFRESH-INTERVAL;VALUE=DURATION:PT1H
X-Robots-Tag:noindex
X-PUBLISHED-TTL:PT1H
BEGIN:VTIMEZONE
TZID:UTC
BEGIN:STANDARD
TZOFFSETFROM:+0000
TZOFFSETTO:+0000
TZNAME:UTC
DTSTART:20220101T000000
END:STANDARD
END:VTIMEZONE
BEGIN:VEVENT
DTSTART;TZID=UTC:20220916T190000
DTEND;TZID=UTC:20220916T213000
DTSTAMP:20220915T045433
CREATED:20220826T040610Z
LAST-MODIFIED:20220826T040610Z
UID:975-1663354800-1663363800@bartmooremusic.com
SUMMARY:Dimes Brewhouse
DESCRIPTION:Playing 7-9:30 at this extraordinary Brew Pub\, deep in the dark heart of lower central Michigan
URL:https://bartmooremusic.com/event/dimes-brewhouse/
LOCATION:Dimes Brewery\, 145 N BRIDGE STREET\, Dimondale\, MI\, 48821\, United States
ATTACH;FMTTYPE=image/jpeg:https://bartmooremusic.com/wp-content/uploads/2022/08/EM_LotsOfSky_BW-scaled.jpg
END:VEVENT
BEGIN:VEVENT
DTSTART;TZID=UTC:20220928T183000
DTEND;TZID=UTC:20220928T203000
DTSTAMP:20220915T045433
CREATED:20220831T014334Z
LAST-MODIFIED:20220831T014334Z
UID:978-1664389800-1664397000@bartmooremusic.com
SUMMARY:Eaglemonk
DESCRIPTION:Playing alternate sets with Vene Thomas\, 6:30-8:30 (thereabouts…)
URL:https://bartmooremusic.com/event/eaglemonk/
LOCATION:Eaglemonk Pub & Brewery\, 4906 W Mt Hope Hwy\, Lansing\, MI\, 48917\, United States
ATTACH;FMTTYPE=image/jpeg:https://bartmooremusic.com/wp-content/uploads/2022/05/InsidePanel_GWW.jpg
END:VEVENT
END:VCALENDAR