BEGIN:VCALENDAR
VERSION:2.0
PRODID:-//BART MOORE - ECPv6.15.20//NONSGML v1.0//EN
CALSCALE:GREGORIAN
METHOD:PUBLISH
X-WR-CALNAME:BART MOORE
X-ORIGINAL-URL:https://bartmooremusic.com
X-WR-CALDESC:Events for BART MOORE
REFRESH-INTERVAL;VALUE=DURATION:PT1H
X-Robots-Tag:noindex
X-PUBLISHED-TTL:PT1H
BEGIN:VTIMEZONE
TZID:UTC
BEGIN:STANDARD
TZOFFSETFROM:+0000
TZOFFSETTO:+0000
TZNAME:UTC
DTSTART:20220101T000000
END:STANDARD
END:VTIMEZONE
BEGIN:VEVENT
DTSTART;TZID=UTC:20250425T193000
DTEND;TZID=UTC:20250425T213000
DTSTAMP:20260419T161424
CREATED:20250127T185953Z
LAST-MODIFIED:20250127T185953Z
UID:1143-1745609400-1745616600@bartmooremusic.com
SUMMARY:Coffeehouse at All-Saints
DESCRIPTION:Join me and other players at this venerable East Lansing Coffeehouse event
URL:https://bartmooremusic.com/event/coffeehouse-at-all-saints/
LOCATION:all saints episcopal church\, 800 Abbot Rd\, East Lansing\, MI\, 48823\, United States
ATTACH;FMTTYPE=image/jpeg:https://bartmooremusic.com/wp-content/uploads/2023/01/DSC_8684-copy-scaled.jpg
END:VEVENT
BEGIN:VEVENT
DTSTART;TZID=UTC:20250424T190000
DTEND;TZID=UTC:20250424T213000
DTSTAMP:20260419T161424
CREATED:20250418T182859Z
LAST-MODIFIED:20250418T182859Z
UID:1173-1745521200-1745530200@bartmooremusic.com
SUMMARY:Bob Dylan Night at Brickhaven
DESCRIPTION:I’ll be joining some other folks in celebration of Mr Dylan with a few of his songs.
URL:https://bartmooremusic.com/event/bob-dylan-night-at-brickhaven/
LOCATION:Brickhaven Brewing Co.\, 200 E Jefferson St\, Grand Ledge\, MI\, United States
ATTACH;FMTTYPE=image/jpeg:https://bartmooremusic.com/wp-content/uploads/2025/04/Dylan.jpg
END:VEVENT
BEGIN:VEVENT
DTSTART;TZID=UTC:20250423T190000
DTEND;TZID=UTC:20250423T210000
DTSTAMP:20260419T161424
CREATED:20250223T224008Z
LAST-MODIFIED:20250223T224008Z
UID:1166-1745434800-1745442000@bartmooremusic.com
SUMMARY:Songwriters' Showcase at the Eaglemonk
DESCRIPTION:Join me (and the Hot Boys of Jenison) for two sets of original music (at Mount Hope and Lansing Rd)
URL:https://bartmooremusic.com/event/songwriters-showcase-at-the-eaglemonk/
LOCATION:Eaglemonk Pub & Brewery\, 4906 W Mt Hope Hwy\, Lansing\, MI\, 48917\, United States
ATTACH;FMTTYPE=image/jpeg:https://bartmooremusic.com/wp-content/uploads/2022/06/EagleMonkFront-e1654310332192.jpg
END:VEVENT
BEGIN:VEVENT
DTSTART;TZID=UTC:20250326T190000
DTEND;TZID=UTC:20250326T210000
DTSTAMP:20260419T161424
CREATED:20250127T190310Z
LAST-MODIFIED:20250223T223813Z
UID:1145-1743015600-1743022800@bartmooremusic.com
SUMMARY:Songwriters' Showcase
DESCRIPTION:Join me (and the Hot Boys of Jenison) for two sets of original music (at Mount Hope and Lansing Rd)
URL:https://bartmooremusic.com/event/songwriters-showcase-6/
LOCATION:Eaglemonk Pub & Brewery\, 4906 W Mt Hope Hwy\, Lansing\, MI\, 48917\, United States
ATTACH;FMTTYPE=image/jpeg:https://bartmooremusic.com/wp-content/uploads/2022/07/Front-Cover-2-CROPPED-997-kB-scaled.jpg
END:VEVENT
BEGIN:VEVENT
DTSTART;TZID=UTC:20250317T180000
DTEND;TZID=UTC:20250317T210000
DTSTAMP:20260419T161424
CREATED:20250223T222842Z
LAST-MODIFIED:20250223T222842Z
UID:1162-1742234400-1742245200@bartmooremusic.com
SUMMARY:Malarky Brothers Tour - Irish Pub in Lansing
DESCRIPTION:More St Patrick’s Day festivities at the Irish Pub
URL:https://bartmooremusic.com/event/malarky-brothers-tour-irish-pub-in-lansing/
LOCATION:Irish Pub\, 1910 W Saginaw\, Lansing\, MI\, 48915\, United States
ATTACH;FMTTYPE=image/jpeg:https://bartmooremusic.com/wp-content/uploads/2025/02/Irish-Pub.jpg
END:VEVENT
BEGIN:VEVENT
DTSTART;TZID=UTC:20250316T173000
DTEND;TZID=UTC:20250316T193000
DTSTAMP:20260419T161424
CREATED:20250223T221803Z
LAST-MODIFIED:20250223T221803Z
UID:1161-1742146200-1742153400@bartmooremusic.com
SUMMARY:Malarky Brothers Tour - Eaglemonk Pub & Brewery in Lansing
DESCRIPTION:The tour continues at this enigmatic Lansing brew pub – join us for great traditional Irish music
URL:https://bartmooremusic.com/event/malarky-brothers-tour-eaglemonk-pub-brewery-in-lansing/
LOCATION:Eaglemonk Pub & Brewery\, 4906 W Mt Hope Hwy\, Lansing\, MI\, 48917\, United States
ATTACH;FMTTYPE=image/jpeg:https://bartmooremusic.com/wp-content/uploads/2025/02/Malarkys-scaled.jpg
END:VEVENT
BEGIN:VEVENT
DTSTART;TZID=UTC:20250315T160000
DTEND;TZID=UTC:20250315T190000
DTSTAMP:20260419T161424
CREATED:20250223T223409Z
LAST-MODIFIED:20250223T223409Z
UID:1165-1742054400-1742065200@bartmooremusic.com
SUMMARY:Malarky Brothers Tour - Brickhaven in Grand Ledge
DESCRIPTION:More Irish Music and this GREAT brew house in Grand Ledge\, MI
URL:https://bartmooremusic.com/event/malarky-brothers-tour-brickhaven-in-grand-ledge-2/
LOCATION:Brickhaven Brewing Co.\, 200 E Jefferson St\, Grand Ledge\, MI\, United States
ATTACH;FMTTYPE=image/jpeg:https://bartmooremusic.com/wp-content/uploads/2025/02/Brickhaven.jpg
END:VEVENT
BEGIN:VEVENT
DTSTART;TZID=UTC:20250314T180000
DTEND;TZID=UTC:20250314T210000
DTSTAMP:20260419T161424
CREATED:20250222T211120Z
LAST-MODIFIED:20250222T211120Z
UID:1152-1741975200-1741986000@bartmooremusic.com
SUMMARY:Malarky Brothers Tour - Looking Glass in DeWitt
DESCRIPTION:If it’s March\, it’s the Malarky Bros. \n  \nWe’ll play 6-9 at this swell brew pub in downtown DeWitt
URL:https://bartmooremusic.com/event/malarky-brothers-tour-looking-glass-in-dewitt/
LOCATION:Looking Glass Brewery\, 115 N. Bridge Street\, DeWitt\, MI\, 48820\, United States
ATTACH;FMTTYPE=image/jpeg:https://bartmooremusic.com/wp-content/uploads/2025/02/Malarkys-scaled.jpg
END:VEVENT
BEGIN:VEVENT
DTSTART;TZID=UTC:20250301T190000
DTEND;TZID=UTC:20250301T210000
DTSTAMP:20260419T161424
CREATED:20250103T024242Z
LAST-MODIFIED:20250103T024242Z
UID:1134-1740855600-1740862800@bartmooremusic.com
SUMMARY:Back at Dimes Brewhouse
DESCRIPTION:Join me for 2 sets at this five-star brewhouse
URL:https://bartmooremusic.com/event/back-at-dimes-brewhouse/
LOCATION:Dimes Brewhouse\, 145 Bridge St\, Dimondale\, MI\, 48821\, United States
ATTACH;FMTTYPE=image/jpeg:https://bartmooremusic.com/wp-content/uploads/2024/06/BACK-COVER-scaled.jpg
END:VEVENT
BEGIN:VEVENT
DTSTART;TZID=UTC:20250226T190000
DTEND;TZID=UTC:20250226T210000
DTSTAMP:20260419T161424
CREATED:20250125T154325Z
LAST-MODIFIED:20250125T154325Z
UID:1142-1740596400-1740603600@bartmooremusic.com
SUMMARY:Back at Songwriter Showcase
DESCRIPTION:Back at the EagleMonk Pub & Brewery with more original songs…
URL:https://bartmooremusic.com/event/back-at-songwriter-showcase/
LOCATION:Eaglemonk Pub & Brewery\, 4906 W Mt Hope Hwy\, Lansing\, MI\, 48917\, United States
ATTACH;FMTTYPE=image/jpeg:https://bartmooremusic.com/wp-content/uploads/2022/06/EagleMonkFront-e1654310332192.jpg
END:VEVENT
BEGIN:VEVENT
DTSTART;TZID=UTC:20250215T193000
DTEND;TZID=UTC:20250215T220000
DTSTAMP:20260419T161424
CREATED:20250124T043252Z
LAST-MODIFIED:20250124T043252Z
UID:1137-1739647800-1739656800@bartmooremusic.com
SUMMARY:Mama's Coffeehouse (opening for Mike Agranoff)
DESCRIPTION:Join me at this great coffeehouse venue in Bloomfield Hills…opening for Mike Agranoff.  I’ll start around 7:30 \nTickets $17/$15 for students and seniors – cash or check only
URL:https://bartmooremusic.com/event/mamas-coffeehouse-opening-for-mike-agranoff/
LOCATION:Mama’s Coffeehouse\, 38651 Woodward Avenue\, Bloomfield Hills\, MI\, 48304\, United States
ATTACH;FMTTYPE=image/jpeg:https://bartmooremusic.com/wp-content/uploads/2025/01/MAMAs-logo002.jpg
END:VEVENT
BEGIN:VEVENT
DTSTART;TZID=UTC:20250208T190000
DTEND;TZID=UTC:20250208T210000
DTSTAMP:20260419T161424
CREATED:20250103T024044Z
LAST-MODIFIED:20250103T024044Z
UID:1132-1739041200-1739048400@bartmooremusic.com
SUMMARY:Two Sets at Dimes Brewhouse in Dimondale
DESCRIPTION:
URL:https://bartmooremusic.com/event/two-sets-at-dimes-brewhouse-in-dimondale/
LOCATION:Dimes Brewhouse\, 145 Bridge St\, Dimondale\, MI\, 48821\, United States
ATTACH;FMTTYPE=image/jpeg:https://bartmooremusic.com/wp-content/uploads/2022/07/cropped-DSC_8656-328KB-scaled-1.jpg
END:VEVENT
BEGIN:VEVENT
DTSTART;TZID=UTC:20250129T190000
DTEND;TZID=UTC:20250129T210000
DTSTAMP:20260419T161424
CREATED:20250124T042108Z
LAST-MODIFIED:20250124T042108Z
UID:1136-1738177200-1738184400@bartmooremusic.com
SUMMARY:Songwriter Showcase
DESCRIPTION:Two sets at this great Lansing brew pub….I’ll be joined by the Hot Boys of Jenison
URL:https://bartmooremusic.com/event/songwriter-showcase-3/
LOCATION:Eaglemonk Pub & Brewery\, 4906 W Mt Hope Hwy\, Lansing\, MI\, 48917\, United States
ATTACH;FMTTYPE=image/jpeg:https://bartmooremusic.com/wp-content/uploads/2022/05/InsidePanel_GWW.jpg
END:VEVENT
BEGIN:VEVENT
DTSTART;TZID=UTC:20250122T190000
DTEND;TZID=UTC:20250122T210000
DTSTAMP:20260419T161425
CREATED:20250103T023622Z
LAST-MODIFIED:20250103T023622Z
UID:1131-1737572400-1737579600@bartmooremusic.com
SUMMARY:Two sets at Eaglemonk Pub & Brewery
DESCRIPTION:Join me in celebrating my great aunt Lillian’s 100th birthday
URL:https://bartmooremusic.com/event/two-sets-at-eaglemonk-pub-brewery/
LOCATION:Eaglemonk Pub & Brewery\, 4906 W Mt Hope Hwy\, Lansing\, MI\, 48917\, United States
ATTACH;FMTTYPE=image/jpeg:https://bartmooremusic.com/wp-content/uploads/2022/06/GalleryBrewery_ORIGINAL.jpg
END:VEVENT
BEGIN:VEVENT
DTSTART;TZID=UTC:20250117T190000
DTEND;TZID=UTC:20250117T220000
DTSTAMP:20260419T161425
CREATED:20250103T023222Z
LAST-MODIFIED:20250103T023222Z
UID:1129-1737140400-1737151200@bartmooremusic.com
SUMMARY:Music at All-Saints
DESCRIPTION:Join me and a host of other fine players for a short set at All Saints Episcopal Church in East Lansing
URL:https://bartmooremusic.com/event/music-at-all-saints/
LOCATION:all saints episcopal church\, 800 Abbot Rd\, East Lansing\, MI\, 48823\, United States
ATTACH;FMTTYPE=image/jpeg:https://bartmooremusic.com/wp-content/uploads/2022/05/Front-Cover-3-CROPPED-scaled.jpg
END:VEVENT
BEGIN:VEVENT
DTSTART;TZID=UTC:20241127T190000
DTEND;TZID=UTC:20241127T210000
DTSTAMP:20260419T161425
CREATED:20241023T145706Z
LAST-MODIFIED:20241023T145706Z
UID:1119-1732734000-1732741200@bartmooremusic.com
SUMMARY:Songwriter Showcase: EagleMonk Pub & Brewery
DESCRIPTION:Doing a couple sets at the Monk\, come on down….
URL:https://bartmooremusic.com/event/songwriter-showcase-eaglemonk-pub-brewery-2/
LOCATION:Eaglemonk Pub & Brewery\, 4906 W Mt Hope Hwy\, Lansing\, MI\, 48917\, United States
ATTACH;FMTTYPE=image/jpeg:https://bartmooremusic.com/wp-content/uploads/2022/08/EM_Standing-scaled.jpg
END:VEVENT
BEGIN:VEVENT
DTSTART;TZID=UTC:20241030T190000
DTEND;TZID=UTC:20241030T210000
DTSTAMP:20260419T161425
CREATED:20241023T145440Z
LAST-MODIFIED:20241023T145440Z
UID:1118-1730314800-1730322000@bartmooremusic.com
SUMMARY:Songwriter Showcase: EagleMonk BrewPub
DESCRIPTION:Join me for a couple pre-Halloween sets at the EagleMonk \n  \n 
URL:https://bartmooremusic.com/event/songwriter-showcase-eaglemonk-brewpub/
LOCATION:Eaglemonk Pub & Brewery\, 4906 W Mt Hope Hwy\, Lansing\, MI\, 48917\, United States
ATTACH;FMTTYPE=image/jpeg:https://bartmooremusic.com/wp-content/uploads/2022/06/EagleMonkFront-e1654310332192.jpg
END:VEVENT
BEGIN:VEVENT
DTSTART;TZID=UTC:20240928T190000
DTEND;TZID=UTC:20240928T210000
DTSTAMP:20260419T161425
CREATED:20240405T021403Z
LAST-MODIFIED:20240405T021403Z
UID:1065-1727550000-1727557200@bartmooremusic.com
SUMMARY:Music in Lansing - Songwriter's Showcase
DESCRIPTION:2 sets 7-9 at the EagleMonk
URL:https://bartmooremusic.com/event/music-in-lansing-songwriters-showcase/
LOCATION:Eaglemonk Pub & Brewery\, 4906 W Mt Hope Hwy\, Lansing\, MI\, 48917\, United States
ATTACH;FMTTYPE=image/jpeg:https://bartmooremusic.com/wp-content/uploads/2022/06/EagleMonkFront-e1654310332192.jpg
END:VEVENT
BEGIN:VEVENT
DTSTART;TZID=UTC:20240814T190000
DTEND;TZID=UTC:20240814T210000
DTSTAMP:20260419T161425
CREATED:20240405T021215Z
LAST-MODIFIED:20240628T061047Z
UID:1064-1723662000-1723669200@bartmooremusic.com
SUMMARY:Songwriter's Showcase
DESCRIPTION:2 sets of original music
URL:https://bartmooremusic.com/event/songwriters-showcase-5/
LOCATION:Eaglemonk Pub & Brewery\, 4906 W Mt Hope Hwy\, Lansing\, MI\, 48917\, United States
ATTACH;FMTTYPE=image/jpeg:https://bartmooremusic.com/wp-content/uploads/2022/08/EM_LotsOfSky_BW-scaled-e1667784649771.jpg
END:VEVENT
BEGIN:VEVENT
DTSTART;TZID=UTC:20240724T190000
DTEND;TZID=UTC:20240724T210000
DTSTAMP:20260419T161425
CREATED:20240405T020944Z
LAST-MODIFIED:20240405T021013Z
UID:1058-1721847600-1721854800@bartmooremusic.com
SUMMARY:Songwriter's Showcase
DESCRIPTION:2 sets of Original Music
URL:https://bartmooremusic.com/event/songwriters-showcase-4/
LOCATION:Eaglemonk Pub & Brewery\, 4906 W Mt Hope Hwy\, Lansing\, MI\, 48917\, United States
ATTACH;FMTTYPE=image/jpeg:https://bartmooremusic.com/wp-content/uploads/2024/04/Moore5_JenaHovey-scaled.jpg
END:VEVENT
BEGIN:VEVENT
DTSTART;TZID=UTC:20240526T190000
DTEND;TZID=UTC:20240526T210000
DTSTAMP:20260419T161425
CREATED:20240405T020323Z
LAST-MODIFIED:20240405T020323Z
UID:1056-1716750000-1716757200@bartmooremusic.com
SUMMARY:Songwriter's Showcase
DESCRIPTION:2 sets of original songs at the EagleMonk
URL:https://bartmooremusic.com/event/songwriters-showcase-3/
LOCATION:Eaglemonk Pub & Brewery\, 4906 W Mt Hope Hwy\, Lansing\, MI\, 48917\, United States
ATTACH;FMTTYPE=image/jpeg:https://bartmooremusic.com/wp-content/uploads/2022/08/EM_StandingSinging-scaled.jpg
END:VEVENT
BEGIN:VEVENT
DTSTART;TZID=UTC:20240427T190000
DTEND;TZID=UTC:20240427T210000
DTSTAMP:20260419T161425
CREATED:20240405T020010Z
LAST-MODIFIED:20240405T020022Z
UID:1055-1714244400-1714251600@bartmooremusic.com
SUMMARY:Songwriter's Showcase
DESCRIPTION:Two sets at the Monk and Eagle…
URL:https://bartmooremusic.com/event/songwriters-showcase-2/
LOCATION:Eaglemonk Pub & Brewery\, 4906 W Mt Hope Hwy\, Lansing\, MI\, 48917\, United States
ATTACH;FMTTYPE=image/jpeg:https://bartmooremusic.com/wp-content/uploads/2022/06/EagleMonkFront-e1654310332192.jpg
END:VEVENT
BEGIN:VEVENT
DTSTART;TZID=UTC:20240330T190000
DTEND;TZID=UTC:20240330T210000
DTSTAMP:20260419T161425
CREATED:20231211T020759Z
LAST-MODIFIED:20231211T020759Z
UID:1046-1711825200-1711832400@bartmooremusic.com
SUMMARY:Music at the Brickyard
DESCRIPTION:Two sets at the Brick
URL:https://bartmooremusic.com/event/music-at-the-brickyard/
LOCATION:Brickhaven Brewing Co.\, 200 E Jefferson St\, Grand Ledge\, MI\, United States
ATTACH;FMTTYPE=image/jpeg:https://bartmooremusic.com/wp-content/uploads/2022/08/DSC_8571-scaled-e1667783560773.jpg
END:VEVENT
BEGIN:VEVENT
DTSTART;TZID=UTC:20240317T180000
DTEND;TZID=UTC:20240317T200000
DTSTAMP:20260419T161425
CREATED:20240310T015338Z
LAST-MODIFIED:20240310T015338Z
UID:1053-1710698400-1710705600@bartmooremusic.com
SUMMARY:St Patrick's Day at EagleMonk
DESCRIPTION:Join me for original and traditional Irish music
URL:https://bartmooremusic.com/event/st-patricks-day-at-eaglemonk/
LOCATION:Eaglemonk Pub & Brewery\, 4906 W Mt Hope Hwy\, Lansing\, MI\, 48917\, United States
ATTACH;FMTTYPE=image/gif:https://bartmooremusic.com/wp-content/uploads/2023/02/shamrocks.gif
END:VEVENT
BEGIN:VEVENT
DTSTART;TZID=UTC:20240316T160000
DTEND;TZID=UTC:20240316T190000
DTSTAMP:20260419T161425
CREATED:20240310T014753Z
LAST-MODIFIED:20240310T014753Z
UID:1051-1710604800-1710615600@bartmooremusic.com
SUMMARY:Irish Music at BrickHaven (w/the Malarky Brothers)
DESCRIPTION:Join me\, Paul Meredith and Tom Bernardi (aka the Malarky Bros) for an afternoon and evening of Irish music after the Grand Ledge St Pat’s Parade\, from 4:00 PM “till the stout runs out”
URL:https://bartmooremusic.com/event/irish-music-at-brickhaven-w-the-malarky-brothers/
LOCATION:Brickhaven Brewing Co.\, 200 E Jefferson St\, Grand Ledge\, MI\, United States
ATTACH;FMTTYPE=image/jpeg:https://bartmooremusic.com/wp-content/uploads/2024/03/Malarky-Bros.jpg
END:VEVENT
BEGIN:VEVENT
DTSTART;TZID=UTC:20240210T190000
DTEND;TZID=UTC:20240210T210000
DTSTAMP:20260419T161425
CREATED:20231211T020159Z
LAST-MODIFIED:20231211T020159Z
UID:1043-1707591600-1707598800@bartmooremusic.com
SUMMARY:Dime's Brew House
DESCRIPTION:Two sets at Dime’s
URL:https://bartmooremusic.com/event/dimes-brew-house-2/
LOCATION:Dimes Brewery\, 145 N BRIDGE STREET\, Dimondale\, MI\, 48821\, United States
ATTACH;FMTTYPE=image/jpeg:https://bartmooremusic.com/wp-content/uploads/2023/12/Dimes.jpg
END:VEVENT
BEGIN:VEVENT
DTSTART;TZID=UTC:20240131T190000
DTEND;TZID=UTC:20240131T210000
DTSTAMP:20260419T161425
CREATED:20240106T162506Z
LAST-MODIFIED:20240106T162506Z
UID:1049-1706727600-1706734800@bartmooremusic.com
SUMMARY:EagleMonk - Songwriter Showcase
DESCRIPTION:Playing two sets at this ultra-cool Lansing Brew Pub
URL:https://bartmooremusic.com/event/eaglemonk-songwriter-showcase/
LOCATION:Eaglemonk Pub & Brewery\, 4906 W Mt Hope Hwy\, Lansing\, MI\, 48917\, United States
ATTACH;FMTTYPE=image/jpeg:https://bartmooremusic.com/wp-content/uploads/2022/06/EagleMonkFront-e1654310332192.jpg
END:VEVENT
BEGIN:VEVENT
DTSTART;TZID=UTC:20240113T190000
DTEND;TZID=UTC:20240113T210000
DTSTAMP:20260419T161425
CREATED:20231211T015621Z
LAST-MODIFIED:20231211T015621Z
UID:1042-1705172400-1705179600@bartmooremusic.com
SUMMARY:Dime's Brew House
DESCRIPTION:Playing originals and covers at Dime’s\,  7-9
URL:https://bartmooremusic.com/event/dimes-brew-house/
LOCATION:Dimes Brewery\, 145 N BRIDGE STREET\, Dimondale\, MI\, 48821\, United States
ATTACH;FMTTYPE=image/jpeg:https://bartmooremusic.com/wp-content/uploads/2019/12/Live_GalleryBrewery.jpg
END:VEVENT
BEGIN:VEVENT
DTSTART;TZID=UTC:20231227T190000
DTEND;TZID=UTC:20231227T210000
DTSTAMP:20260419T161425
CREATED:20231211T014450Z
LAST-MODIFIED:20231211T014500Z
UID:1041-1703703600-1703710800@bartmooremusic.com
SUMMARY:EagleMonk Pub - Songwriter's Showcase
DESCRIPTION:Playing 2 sets at the Monk: 7-9 PM
URL:https://bartmooremusic.com/event/eaglemonk-pub-songwriters-showcase/
LOCATION:Eaglemonk Pub & Brewery\, 4906 W Mt Hope Hwy\, Lansing\, MI\, 48917\, United States
ATTACH;FMTTYPE=image/jpeg:https://bartmooremusic.com/wp-content/uploads/2022/06/EagleMonkFront-e1654310332192.jpg
END:VEVENT
BEGIN:VEVENT
DTSTART;TZID=UTC:20231207T170000
DTEND;TZID=UTC:20231207T200000
DTSTAMP:20260419T161425
CREATED:20230626T013534Z
LAST-MODIFIED:20230626T013534Z
UID:1031-1701968400-1701979200@bartmooremusic.com
SUMMARY:Horrock's Beer Garden
DESCRIPTION:Three sets at Horrocks
URL:https://bartmooremusic.com/event/horrocks-beer-garden/
LOCATION:horrocks lansing mi\, 7420 W. Saginaw\, Lansing\, MI\, 48917
ATTACH;FMTTYPE=image/jpeg:https://bartmooremusic.com/wp-content/uploads/2019/12/Live_GalleryBrewery.jpg
END:VEVENT
END:VCALENDAR