BEGIN:VCALENDAR
VERSION:2.0
PRODID:-//BART MOORE - ECPv6.15.20//NONSGML v1.0//EN
CALSCALE:GREGORIAN
METHOD:PUBLISH
X-WR-CALNAME:BART MOORE
X-ORIGINAL-URL:https://bartmooremusic.com
X-WR-CALDESC:Events for BART MOORE
REFRESH-INTERVAL;VALUE=DURATION:PT1H
X-Robots-Tag:noindex
X-PUBLISHED-TTL:PT1H
BEGIN:VTIMEZONE
TZID:UTC
BEGIN:STANDARD
TZOFFSETFROM:+0000
TZOFFSETTO:+0000
TZNAME:UTC
DTSTART:20210101T000000
END:STANDARD
END:VTIMEZONE
BEGIN:VEVENT
DTSTART;TZID=UTC:20240316T160000
DTEND;TZID=UTC:20240316T190000
DTSTAMP:20260419T175724
CREATED:20240310T014753Z
LAST-MODIFIED:20240310T014753Z
UID:1051-1710604800-1710615600@bartmooremusic.com
SUMMARY:Irish Music at BrickHaven (w/the Malarky Brothers)
DESCRIPTION:Join me\, Paul Meredith and Tom Bernardi (aka the Malarky Bros) for an afternoon and evening of Irish music after the Grand Ledge St Pat’s Parade\, from 4:00 PM “till the stout runs out”
URL:https://bartmooremusic.com/event/irish-music-at-brickhaven-w-the-malarky-brothers/
LOCATION:Brickhaven Brewing Co.\, 200 E Jefferson St\, Grand Ledge\, MI\, United States
ATTACH;FMTTYPE=image/jpeg:https://bartmooremusic.com/wp-content/uploads/2024/03/Malarky-Bros.jpg
END:VEVENT
BEGIN:VEVENT
DTSTART;TZID=UTC:20240210T190000
DTEND;TZID=UTC:20240210T210000
DTSTAMP:20260419T175724
CREATED:20231211T020159Z
LAST-MODIFIED:20231211T020159Z
UID:1043-1707591600-1707598800@bartmooremusic.com
SUMMARY:Dime's Brew House
DESCRIPTION:Two sets at Dime’s
URL:https://bartmooremusic.com/event/dimes-brew-house-2/
LOCATION:Dimes Brewery\, 145 N BRIDGE STREET\, Dimondale\, MI\, 48821\, United States
ATTACH;FMTTYPE=image/jpeg:https://bartmooremusic.com/wp-content/uploads/2023/12/Dimes.jpg
END:VEVENT
BEGIN:VEVENT
DTSTART;TZID=UTC:20240131T190000
DTEND;TZID=UTC:20240131T210000
DTSTAMP:20260419T175724
CREATED:20240106T162506Z
LAST-MODIFIED:20240106T162506Z
UID:1049-1706727600-1706734800@bartmooremusic.com
SUMMARY:EagleMonk - Songwriter Showcase
DESCRIPTION:Playing two sets at this ultra-cool Lansing Brew Pub
URL:https://bartmooremusic.com/event/eaglemonk-songwriter-showcase/
LOCATION:Eaglemonk Pub & Brewery\, 4906 W Mt Hope Hwy\, Lansing\, MI\, 48917\, United States
ATTACH;FMTTYPE=image/jpeg:https://bartmooremusic.com/wp-content/uploads/2022/06/EagleMonkFront-e1654310332192.jpg
END:VEVENT
BEGIN:VEVENT
DTSTART;TZID=UTC:20240113T190000
DTEND;TZID=UTC:20240113T210000
DTSTAMP:20260419T175724
CREATED:20231211T015621Z
LAST-MODIFIED:20231211T015621Z
UID:1042-1705172400-1705179600@bartmooremusic.com
SUMMARY:Dime's Brew House
DESCRIPTION:Playing originals and covers at Dime’s\,  7-9
URL:https://bartmooremusic.com/event/dimes-brew-house/
LOCATION:Dimes Brewery\, 145 N BRIDGE STREET\, Dimondale\, MI\, 48821\, United States
ATTACH;FMTTYPE=image/jpeg:https://bartmooremusic.com/wp-content/uploads/2019/12/Live_GalleryBrewery.jpg
END:VEVENT
BEGIN:VEVENT
DTSTART;TZID=UTC:20231227T190000
DTEND;TZID=UTC:20231227T210000
DTSTAMP:20260419T175724
CREATED:20231211T014450Z
LAST-MODIFIED:20231211T014500Z
UID:1041-1703703600-1703710800@bartmooremusic.com
SUMMARY:EagleMonk Pub - Songwriter's Showcase
DESCRIPTION:Playing 2 sets at the Monk: 7-9 PM
URL:https://bartmooremusic.com/event/eaglemonk-pub-songwriters-showcase/
LOCATION:Eaglemonk Pub & Brewery\, 4906 W Mt Hope Hwy\, Lansing\, MI\, 48917\, United States
ATTACH;FMTTYPE=image/jpeg:https://bartmooremusic.com/wp-content/uploads/2022/06/EagleMonkFront-e1654310332192.jpg
END:VEVENT
BEGIN:VEVENT
DTSTART;TZID=UTC:20231207T170000
DTEND;TZID=UTC:20231207T200000
DTSTAMP:20260419T175724
CREATED:20230626T013534Z
LAST-MODIFIED:20230626T013534Z
UID:1031-1701968400-1701979200@bartmooremusic.com
SUMMARY:Horrock's Beer Garden
DESCRIPTION:Three sets at Horrocks
URL:https://bartmooremusic.com/event/horrocks-beer-garden/
LOCATION:horrocks lansing mi\, 7420 W. Saginaw\, Lansing\, MI\, 48917
ATTACH;FMTTYPE=image/jpeg:https://bartmooremusic.com/wp-content/uploads/2019/12/Live_GalleryBrewery.jpg
END:VEVENT
BEGIN:VEVENT
DTSTART;TZID=UTC:20231015T100000
DTEND;TZID=UTC:20231015T113000
DTSTAMP:20260419T175724
CREATED:20230224T020936Z
LAST-MODIFIED:20230224T020936Z
UID:1015-1697364000-1697369400@bartmooremusic.com
SUMMARY:2 More sets at the East Lansing Market
DESCRIPTION:Join me for music during the East Lansing Autumn Fest
URL:https://bartmooremusic.com/event/2-more-sets-at-the-east-lansing-market/
LOCATION:East Lansing Farmers Market\, 280 Valley Court\, East Lansing\, MI\, 48823\, United States
ATTACH;FMTTYPE=image/jpeg:https://bartmooremusic.com/wp-content/uploads/2021/10/JuggleFruitVegetables.jpg
END:VEVENT
BEGIN:VEVENT
DTSTART;TZID=UTC:20231008T100000
DTEND;TZID=UTC:20231008T113000
DTSTAMP:20260419T175724
CREATED:20230108T213553Z
LAST-MODIFIED:20230224T020219Z
UID:1001-1696759200-1696764600@bartmooremusic.com
SUMMARY:Two Sets at East Lansing Market
DESCRIPTION:Will do two sets of (mostly) original material from 10-11:10
URL:https://bartmooremusic.com/event/two-sets-at-east-lansing-market/
LOCATION:East Lansing Farmers Market\, 280 Valley Court\, East Lansing\, MI\, 48823\, United States
ATTACH;FMTTYPE=image/jpeg:https://bartmooremusic.com/wp-content/uploads/2017/03/ELFM.jpg
END:VEVENT
BEGIN:VEVENT
DTSTART;TZID=UTC:20230927T190000
DTEND;TZID=UTC:20230927T210000
DTSTAMP:20260419T175724
CREATED:20230904T193604Z
LAST-MODIFIED:20230904T193604Z
UID:1039-1695841200-1695848400@bartmooremusic.com
SUMMARY:Songwriter Showcase
DESCRIPTION:2 Sets at Eaglemonk
URL:https://bartmooremusic.com/event/songwriter-showcase-2/
LOCATION:Eaglemonk Pub & Brewery\, 4906 W Mt Hope Hwy\, Lansing\, MI\, 48917\, United States
ATTACH;FMTTYPE=image/jpeg:https://bartmooremusic.com/wp-content/uploads/2022/06/EagleMonkFront-e1654310332192.jpg
END:VEVENT
BEGIN:VEVENT
DTSTART;TZID=UTC:20230823T070000
DTEND;TZID=UTC:20230823T210000
DTSTAMP:20260419T175724
CREATED:20230724T031848Z
LAST-MODIFIED:20230724T031848Z
UID:1034-1692774000-1692824400@bartmooremusic.com
SUMMARY:Songwriter Showcase - Eaglemonk Pub & Brewery
DESCRIPTION:I’ll be joined by Cody Wilson in the beer garden
URL:https://bartmooremusic.com/event/songwriter-showcase-eaglemonk-pub-brewery/
LOCATION:Eaglemonk Pub & Brewery\, 4906 W Mt Hope Hwy\, Lansing\, MI\, 48917\, United States
ATTACH;FMTTYPE=image/jpeg:https://bartmooremusic.com/wp-content/uploads/2022/08/EM_LotsOfSky_BW-scaled-e1667784649771.jpg
END:VEVENT
BEGIN:VEVENT
DTSTART;TZID=UTC:20230811T190000
DTEND;TZID=UTC:20230811T210000
DTSTAMP:20260419T175724
CREATED:20230518T223503Z
LAST-MODIFIED:20230518T223503Z
UID:1029-1691780400-1691787600@bartmooremusic.com
SUMMARY:Dimes Brewery\, redux...
DESCRIPTION:Another night at Dimes\, amidst the ghosts and lost souls of Dimondale…Fine beers brewed in house\, and cider you walk a mile o’ ground for
URL:https://bartmooremusic.com/event/dimes-brewery-redux/
LOCATION:Dimes Brewery\, 145 N BRIDGE STREET\, Dimondale\, MI\, 48821\, United States
ATTACH;FMTTYPE=image/jpeg:https://bartmooremusic.com/wp-content/uploads/2023/01/ConfluxCity.jpg
END:VEVENT
BEGIN:VEVENT
DTSTART;TZID=UTC:20230708T190000
DTEND;TZID=UTC:20230708T210000
DTSTAMP:20260419T175724
CREATED:20230518T223230Z
LAST-MODIFIED:20230518T223230Z
UID:1028-1688842800-1688850000@bartmooremusic.com
SUMMARY:Dimes Brewery - Dimondale\, MI
DESCRIPTION:Join me for two sets\, outside\, in mysterious haunted Dimondale…
URL:https://bartmooremusic.com/event/dimes-brewery-dimondale-mi/
LOCATION:Dimes Brewery\, 145 N BRIDGE STREET\, Dimondale\, MI\, 48821\, United States
ATTACH;FMTTYPE=image/jpeg:https://bartmooremusic.com/wp-content/uploads/2019/12/bioPic_NB-2.jpg
END:VEVENT
BEGIN:VEVENT
DTSTART;TZID=UTC:20230628T190000
DTEND;TZID=UTC:20230628T210000
DTSTAMP:20260419T175724
CREATED:20230414T013549Z
LAST-MODIFIED:20230414T013549Z
UID:1024-1687978800-1687986000@bartmooremusic.com
SUMMARY:Songwriters Showcase
DESCRIPTION:2 sets in the beer garden
URL:https://bartmooremusic.com/event/songwriters-showcase/
LOCATION:Eaglemonk Pub & Brewery\, 4906 W Mt Hope Hwy\, Lansing\, MI\, 48917\, United States
ATTACH;FMTTYPE=image/jpeg:https://bartmooremusic.com/wp-content/uploads/2022/08/EM_Standing-scaled.jpg
END:VEVENT
BEGIN:VEVENT
DTSTART;TZID=UTC:20230603T120000
DTEND;TZID=UTC:20230603T170000
DTSTAMP:20260419T175724
CREATED:20230412T035146Z
LAST-MODIFIED:20230518T222845Z
UID:1021-1685793600-1685811600@bartmooremusic.com
SUMMARY:Pumpstock Music Festival
DESCRIPTION:Annual Outdoor Music Event in East Lansing – The best way you can possibly spend a late Spring afternoon…. \nhttps://www.facebook.com/Pumpstock/ \n  \n  \n 
URL:https://bartmooremusic.com/event/pumpstock-music-festival/
LOCATION:Bailey Park\, East Lansing\, MI
ATTACH;FMTTYPE=image/jpeg:https://bartmooremusic.com/wp-content/uploads/2023/04/People-Pumpstock.jpg
END:VEVENT
BEGIN:VEVENT
DTSTART;TZID=UTC:20230510T170000
DTEND;TZID=UTC:20230510T183000
DTSTAMP:20260419T175724
CREATED:20230204T194644Z
LAST-MODIFIED:20230204T194644Z
UID:1008-1683738000-1683743400@bartmooremusic.com
SUMMARY:Allen Farmers Market
DESCRIPTION:Playing 2 sets at AFM….C’mon get your summer squash\, chrysanthemums and organic onions…..
URL:https://bartmooremusic.com/event/allen-farmers-market/
LOCATION:Allen Neighborhood Center\, 2100 E Michigan Ave\, Lansing\, MI\, 48912-3026\, United States
ATTACH;FMTTYPE=image/png:https://bartmooremusic.com/wp-content/uploads/2018/05/AllenFarmersMarket.png
END:VEVENT
BEGIN:VEVENT
DTSTART;TZID=UTC:20230429T190000
DTEND;TZID=UTC:20230429T210000
DTSTAMP:20260419T175724
CREATED:20230218T061229Z
LAST-MODIFIED:20230412T035355Z
UID:1013-1682794800-1682802000@bartmooremusic.com
SUMMARY:Confluxcity
DESCRIPTION:Back at this superb Portland Brew Pub for a fling (in the Spring)
URL:https://bartmooremusic.com/event/confluxcity/
LOCATION:confluxcity brewing company\, 110 N Water St\, Portland\, MI
ATTACH;FMTTYPE=image/png:https://bartmooremusic.com/wp-content/uploads/2022/05/JenaPic.png
END:VEVENT
BEGIN:VEVENT
DTSTART;TZID=UTC:20230426T190000
DTEND;TZID=UTC:20230426T210000
DTSTAMP:20260419T175724
CREATED:20230412T032929Z
LAST-MODIFIED:20230412T033230Z
UID:1017-1682535600-1682542800@bartmooremusic.com
SUMMARY:Songwriter Showcase
DESCRIPTION:Two sets at the “Monk”
URL:https://bartmooremusic.com/event/songwriter-showcase/
LOCATION:Eaglemonk Pub & Brewery\, 4906 W Mt Hope Hwy\, Lansing\, MI\, 48917\, United States
ATTACH;FMTTYPE=image/jpeg:https://bartmooremusic.com/wp-content/uploads/2022/06/EagleMonkFront-e1654310332192.jpg
END:VEVENT
BEGIN:VEVENT
DTSTART;TZID=UTC:20230329T190000
DTEND;TZID=UTC:20230329T210000
DTSTAMP:20260419T175724
CREATED:20230114T013719Z
LAST-MODIFIED:20230114T013719Z
UID:1005-1680116400-1680123600@bartmooremusic.com
SUMMARY:Eaglemonk Pub & Brewery
DESCRIPTION:Doing two sets 7-9 at the venerable EagleMonk; looking forward to the Italian wine\, Irish ale and great people (and FINE music)
URL:https://bartmooremusic.com/event/eaglemonk-pub-brewery-3/
LOCATION:Eaglemonk Pub & Brewery\, 4906 W Mt Hope Hwy\, Lansing\, MI\, 48917\, United States
ATTACH;FMTTYPE=image/jpeg:https://bartmooremusic.com/wp-content/uploads/2022/06/EagleMonkFront-e1654310332192.jpg
END:VEVENT
BEGIN:VEVENT
DTSTART;TZID=UTC:20230317T073000
DTEND;TZID=UTC:20230317T213000
DTSTAMP:20260419T175724
CREATED:20230204T195321Z
LAST-MODIFIED:20230204T195321Z
UID:1009-1679038200-1679088600@bartmooremusic.com
SUMMARY:St Patrick's Day at Dimes Brewhouse
DESCRIPTION:Join me for some serious revelry at this swell brew-pub….Irish songs & exquisite suds
URL:https://bartmooremusic.com/event/st-patricks-day-at-dimes-brewhouse/
LOCATION:Dimes Brewery\, 145 N BRIDGE STREET\, Dimondale\, MI\, 48821\, United States
ATTACH;FMTTYPE=image/gif:https://bartmooremusic.com/wp-content/uploads/2023/02/shamrocks.gif
END:VEVENT
BEGIN:VEVENT
DTSTART;TZID=UTC:20230210T190000
DTEND;TZID=UTC:20230210T210000
DTSTAMP:20260419T175724
CREATED:20230104T035958Z
LAST-MODIFIED:20230104T035958Z
UID:987-1676055600-1676062800@bartmooremusic.com
SUMMARY:ConfluxCity Brewing Company
DESCRIPTION:Playing a couple sets\, 7-9 at this great Portland brew pub \n 
URL:https://bartmooremusic.com/event/confluxcity-brewing-company/
LOCATION:confluxcity brewing company\, 110 N Water St\, Portland\, MI
ATTACH;FMTTYPE=image/jpeg:https://bartmooremusic.com/wp-content/uploads/2023/01/ConfluxCity.jpg
END:VEVENT
BEGIN:VEVENT
DTSTART;TZID=UTC:20230202T200000
DTEND;TZID=UTC:20230202T210000
DTSTAMP:20260419T175724
CREATED:20230108T213218Z
LAST-MODIFIED:20230114T013935Z
UID:999-1675368000-1675371600@bartmooremusic.com
SUMMARY:Live Stream Show on Street Jelly
DESCRIPTION:I’ll do a one-hour livestream set on Groundhog Day on a site called Street Jelly – tips are welcome \nWebsite: https://www.streetjelly.com/calendar
URL:https://bartmooremusic.com/event/live-stream-show-on-street-jelly-2/
LOCATION:Street Jelly
ATTACH;FMTTYPE=image/png:https://bartmooremusic.com/wp-content/uploads/2023/01/sj-guitar-logo-sm.png
END:VEVENT
BEGIN:VEVENT
DTSTART;TZID=UTC:20230126T210000
DTEND;TZID=UTC:20230126T213000
DTSTAMP:20260419T175724
CREATED:20230114T013201Z
LAST-MODIFIED:20230114T013201Z
UID:1003-1674766800-1674768600@bartmooremusic.com
SUMMARY:Performance Lane - Folk Alliance Region Midwest
DESCRIPTION:I’ll do a short live-stream set at this FARM event — always a fun time\, and a great organization
URL:https://bartmooremusic.com/event/performance-lane-folk-alliance-region-midwest/
LOCATION:MI
ATTACH;FMTTYPE=image/jpeg:https://bartmooremusic.com/wp-content/uploads/2023/01/DSC_8684-copy-scaled.jpg
END:VEVENT
BEGIN:VEVENT
DTSTART;TZID=UTC:20230112T080000
DTEND;TZID=UTC:20230112T210000
DTSTAMP:20260419T175724
CREATED:20230104T040911Z
LAST-MODIFIED:20230104T040911Z
UID:990-1673510400-1673557200@bartmooremusic.com
SUMMARY:Live Stream Show on Street Jelly
DESCRIPTION:I’ll do a one-hour livestream set on a site called Street Jelly – tips are welcome \nWebsite:  https://www.streetjelly.com/calendar
URL:https://bartmooremusic.com/event/live-stream-show-on-street-jelly/
LOCATION:MI
ATTACH;FMTTYPE=image/png:https://bartmooremusic.com/wp-content/uploads/2023/01/sj-guitar-logo-sm.png
END:VEVENT
BEGIN:VEVENT
DTSTART;TZID=UTC:20221228T063000
DTEND;TZID=UTC:20221228T203000
DTSTAMP:20260419T175724
CREATED:20221107T013126Z
LAST-MODIFIED:20221107T013126Z
UID:983-1672209000-1672259400@bartmooremusic.com
SUMMARY:EagleMonk Pub & Brewery
DESCRIPTION:Doing two 30-minute sets (alternating with Vene Thomas)
URL:https://bartmooremusic.com/event/eaglemonk-pub-brewery-2/
LOCATION:Eaglemonk Pub & Brewery\, 4906 W Mt Hope Hwy\, Lansing\, MI\, 48917\, United States
ATTACH;FMTTYPE=image/jpeg:https://bartmooremusic.com/wp-content/uploads/2022/08/EM_LotsOfSky_BW-scaled-e1667784649771.jpg
END:VEVENT
BEGIN:VEVENT
DTSTART;TZID=UTC:20221203T184500
DTEND;TZID=UTC:20221203T210000
DTSTAMP:20260419T175724
CREATED:20221107T013342Z
LAST-MODIFIED:20221107T013342Z
UID:982-1670093100-1670101200@bartmooremusic.com
SUMMARY:Dimes Brewhouse
DESCRIPTION:Playing music from 6:45-9 at a swell brew house in Dimondale\, MI
URL:https://bartmooremusic.com/event/dimes-brewhouse-2/
LOCATION:Dimes Brewery\, 145 N BRIDGE STREET\, Dimondale\, MI\, 48821\, United States
ATTACH;FMTTYPE=image/jpeg:https://bartmooremusic.com/wp-content/uploads/2022/08/DSC_8571-scaled-e1667783560773.jpg
END:VEVENT
BEGIN:VEVENT
DTSTART;TZID=UTC:20221123T183000
DTEND;TZID=UTC:20221123T203000
DTSTAMP:20260419T175724
CREATED:20221107T010427Z
LAST-MODIFIED:20221107T010427Z
UID:981-1669228200-1669235400@bartmooremusic.com
SUMMARY:EagleMonk Pub and Brewery
DESCRIPTION:Playing two 30-minute sets (alternating with Vene Thomas) for a Songwriter’s Showcase at this totally great brew pub in Lansing
URL:https://bartmooremusic.com/event/eaglemonk-pub-and-brewery/
LOCATION:Eaglemonk Pub & Brewery\, 4906 W Mt Hope Hwy\, Lansing\, MI\, 48917\, United States
ATTACH;FMTTYPE=image/jpeg:https://bartmooremusic.com/wp-content/uploads/2022/06/EagleMonkFront-e1654310332192.jpg
END:VEVENT
BEGIN:VEVENT
DTSTART;TZID=UTC:20220928T183000
DTEND;TZID=UTC:20220928T203000
DTSTAMP:20260419T175724
CREATED:20220831T014334Z
LAST-MODIFIED:20220831T014334Z
UID:978-1664389800-1664397000@bartmooremusic.com
SUMMARY:Eaglemonk
DESCRIPTION:Playing alternate sets with Vene Thomas\, 6:30-8:30 (thereabouts…)
URL:https://bartmooremusic.com/event/eaglemonk/
LOCATION:Eaglemonk Pub & Brewery\, 4906 W Mt Hope Hwy\, Lansing\, MI\, 48917\, United States
ATTACH;FMTTYPE=image/jpeg:https://bartmooremusic.com/wp-content/uploads/2022/05/InsidePanel_GWW.jpg
END:VEVENT
BEGIN:VEVENT
DTSTART;TZID=UTC:20220916T190000
DTEND;TZID=UTC:20220916T213000
DTSTAMP:20260419T175724
CREATED:20220826T040610Z
LAST-MODIFIED:20220826T040610Z
UID:975-1663354800-1663363800@bartmooremusic.com
SUMMARY:Dimes Brewhouse
DESCRIPTION:Playing 7-9:30 at this extraordinary Brew Pub\, deep in the dark heart of lower central Michigan
URL:https://bartmooremusic.com/event/dimes-brewhouse/
LOCATION:Dimes Brewery\, 145 N BRIDGE STREET\, Dimondale\, MI\, 48821\, United States
ATTACH;FMTTYPE=image/jpeg:https://bartmooremusic.com/wp-content/uploads/2022/08/EM_LotsOfSky_BW-scaled-e1667784649771.jpg
END:VEVENT
BEGIN:VEVENT
DTSTART;TZID=UTC:20220911T100000
DTEND;TZID=UTC:20220911T120000
DTSTAMP:20260419T175724
CREATED:20220821T165754Z
LAST-MODIFIED:20220821T165754Z
UID:969-1662890400-1662897600@bartmooremusic.com
SUMMARY:Williamston/East Ingham Market
DESCRIPTION:Playing two sets from 10-12
URL:https://bartmooremusic.com/event/williamston-east-ingham-market/
LOCATION:Williamston Farmers Market\, 228 N Putnam St\, Williamston\, MI\, 48895\, United States
ATTACH;FMTTYPE=image/jpeg:https://bartmooremusic.com/wp-content/uploads/2022/08/DSC_8571-scaled-e1667783560773.jpg
END:VEVENT
BEGIN:VEVENT
DTSTART;TZID=UTC:20220903T090000
DTEND;TZID=UTC:20220903T110000
DTSTAMP:20260419T175724
CREATED:20220502T042050Z
LAST-MODIFIED:20220502T042050Z
UID:728-1662195600-1662202800@bartmooremusic.com
SUMMARY:2 Sets of Original Music @ Meridian Market
DESCRIPTION:
URL:https://bartmooremusic.com/event/2-sets-of-original-music-meridian-market/
LOCATION:Meridian Market\, 5151 Marsh Rd\, Okemos\, MI\, 48864\, United States
ATTACH;FMTTYPE=image/png:https://bartmooremusic.com/wp-content/uploads/2021/03/Moore-TD-House-1.png
END:VEVENT
END:VCALENDAR